BEGIN:VCALENDAR
PRODID:-//eluceo/ical//2.0/EN
VERSION:2.0
CALSCALE:GREGORIAN
BEGIN:VEVENT
UID:b8699ebf5d161d0319f79bdf46684176
DTSTAMP:20260422T170740Z
SUMMARY:Level 3: Premise Core (1/7)
DESCRIPTION:taught by Sarah Claspell\nat Anthony Meindl Studios
DTSTART;TZID=America/Los_Angeles:20240907T120000
DTEND;TZID=America/Los_Angeles:20240907T150000
LOCATION:Anthony Meindl Studios
END:VEVENT
BEGIN:VEVENT
UID:d090aea6658481695a6549a97ab8decb
DTSTAMP:20260422T170740Z
SUMMARY:Level 3: Premise Core (2/7)
DESCRIPTION:taught by Sarah Claspell\nat Anthony Meindl Studios
DTSTART;TZID=America/Los_Angeles:20240914T120000
DTEND;TZID=America/Los_Angeles:20240914T150000
LOCATION:Anthony Meindl Studios
END:VEVENT
BEGIN:VEVENT
UID:28318d421269fbfbedb856c554fe9d76
DTSTAMP:20260422T170740Z
SUMMARY:Level 3: Premise Core (3/7)
DESCRIPTION:taught by Sarah Claspell\nat Anthony Meindl Studios
DTSTART;TZID=America/Los_Angeles:20240921T120000
DTEND;TZID=America/Los_Angeles:20240921T150000
LOCATION:Anthony Meindl Studios
END:VEVENT
BEGIN:VEVENT
UID:983d6d9b09f7c47853ff02951755501d
DTSTAMP:20260422T170740Z
SUMMARY:Level 3: Premise Core (4/7)
DESCRIPTION:taught by Sarah Claspell\nat Anthony Meindl Studios
DTSTART;TZID=America/Los_Angeles:20240928T120000
DTEND;TZID=America/Los_Angeles:20240928T150000
LOCATION:Anthony Meindl Studios
END:VEVENT
BEGIN:VEVENT
UID:b9e4e29b43db1d40d05d8d5f9e34c929
DTSTAMP:20260422T170740Z
SUMMARY:Level 3: Premise Core (5/7)
DESCRIPTION:taught by Sarah Claspell\nat Anthony Meindl Studios
DTSTART;TZID=America/Los_Angeles:20241005T120000
DTEND;TZID=America/Los_Angeles:20241005T150000
LOCATION:Anthony Meindl Studios
END:VEVENT
BEGIN:VEVENT
UID:86d7d73cbafcc0f6da2e95db04dc092c
DTSTAMP:20260422T170740Z
SUMMARY:Level 3: Premise Core (6/7)
DESCRIPTION:taught by Sarah Claspell\nat Anthony Meindl Studios
DTSTART;TZID=America/Los_Angeles:20241012T120000
DTEND;TZID=America/Los_Angeles:20241012T150000
LOCATION:Anthony Meindl Studios
END:VEVENT
BEGIN:VEVENT
UID:cd37013bc41f323e90a537fb5879fe14
DTSTAMP:20260422T170740Z
SUMMARY:Level 3: Premise Core (7/7)
DESCRIPTION:taught by Sarah Claspell\nat Clubhouse Downstairs
DTSTART;TZID=America/Los_Angeles:20241018T180000
DTEND;TZID=America/Los_Angeles:20241018T190000
LOCATION:Clubhouse Downstairs
END:VEVENT
BEGIN:VTIMEZONE
TZID:America/Los_Angeles
BEGIN:DAYLIGHT
DTSTART:20260401T000000
TZNAME:PDT
TZOFFSETTO:-0700
TZOFFSETFROM:-0700
END:DAYLIGHT
END:VTIMEZONE
END:VCALENDAR
