BEGIN:VCALENDAR
PRODID:-//eluceo/ical//2.0/EN
VERSION:2.0
CALSCALE:GREGORIAN
BEGIN:VEVENT
UID:257f9818b1583c8d853db75bf05aeac0
DTSTAMP:20260424T191846Z
SUMMARY:Noon Bitness - February 2025 (1/13)
DESCRIPTION:taught by Will Hines and Sarah Claspell\nat WGIS Space
DTSTART;TZID=America/Los_Angeles:20250203T120000
DTEND;TZID=America/Los_Angeles:20250203T140000
LOCATION:WGIS Space
END:VEVENT
BEGIN:VEVENT
UID:f1c3b0de570d129089cc4a2a08364e95
DTSTAMP:20260424T191846Z
SUMMARY:Noon Bitness - February 2025 (2/13)
DESCRIPTION:taught by Will Hines and Sarah Claspell\nat WGIS Space
DTSTART;TZID=America/Los_Angeles:20250204T120000
DTEND;TZID=America/Los_Angeles:20250204T140000
LOCATION:WGIS Space
END:VEVENT
BEGIN:VEVENT
UID:593f082544d77655c60071fcac9b8abe
DTSTAMP:20260424T191846Z
SUMMARY:Noon Bitness - February 2025 (3/13)
DESCRIPTION:taught by Will Hines and Sarah Claspell\nat WGIS Space
DTSTART;TZID=America/Los_Angeles:20250206T120000
DTEND;TZID=America/Los_Angeles:20250206T140000
LOCATION:WGIS Space
END:VEVENT
BEGIN:VEVENT
UID:e76ff7ebf601b79a3b55e150d6edcba0
DTSTAMP:20260424T191846Z
SUMMARY:Noon Bitness - February 2025 (4/13)
DESCRIPTION:taught by Will Hines and Sarah Claspell\nat WGIS Space
DTSTART;TZID=America/Los_Angeles:20250207T120000
DTEND;TZID=America/Los_Angeles:20250207T140000
LOCATION:WGIS Space
END:VEVENT
BEGIN:VEVENT
UID:a3c43ae6f73ee127782057102d4b243f
DTSTAMP:20260424T191846Z
SUMMARY:Noon Bitness - February 2025 (5/13)
DESCRIPTION:taught by Will Hines and Sarah Claspell\nat WGIS Space
DTSTART;TZID=America/Los_Angeles:20250210T120000
DTEND;TZID=America/Los_Angeles:20250210T140000
LOCATION:WGIS Space
END:VEVENT
BEGIN:VEVENT
UID:97cceb409a12fe225d11ae3d2c71a44d
DTSTAMP:20260424T191846Z
SUMMARY:Noon Bitness - February 2025 (6/13)
DESCRIPTION:taught by Will Hines and Sarah Claspell\nat WGIS Space
DTSTART;TZID=America/Los_Angeles:20250211T120000
DTEND;TZID=America/Los_Angeles:20250211T140000
LOCATION:WGIS Space
END:VEVENT
BEGIN:VEVENT
UID:b16afaf8b56bfac8f43896c89b68f2ca
DTSTAMP:20260424T191846Z
SUMMARY:Noon Bitness - February 2025 (7/13)
DESCRIPTION:taught by Will Hines and Sarah Claspell\nat WGIS Space
DTSTART;TZID=America/Los_Angeles:20250213T120000
DTEND;TZID=America/Los_Angeles:20250213T140000
LOCATION:WGIS Space
END:VEVENT
BEGIN:VEVENT
UID:5642889ba9296cbb4ca9a0168db6af60
DTSTAMP:20260424T191846Z
SUMMARY:Noon Bitness - February 2025 (8/13)
DESCRIPTION:taught by Will Hines and Sarah Claspell\nat WGIS Space
DTSTART;TZID=America/Los_Angeles:20250214T120000
DTEND;TZID=America/Los_Angeles:20250214T140000
LOCATION:WGIS Space
END:VEVENT
BEGIN:VEVENT
UID:727656da381c19c45a7200a055979849
DTSTAMP:20260424T191846Z
SUMMARY:Noon Bitness - February 2025 (9/13)
DESCRIPTION:taught by Will Hines and Sarah Claspell\nat WGIS Space
DTSTART;TZID=America/Los_Angeles:20250217T120000
DTEND;TZID=America/Los_Angeles:20250217T140000
LOCATION:WGIS Space
END:VEVENT
BEGIN:VEVENT
UID:bdfc9c409533aaa2c07bbe2abdb32346
DTSTAMP:20260424T191846Z
SUMMARY:Noon Bitness - February 2025 (10/13)
DESCRIPTION:taught by Will Hines and Sarah Claspell\nat WGIS Space
DTSTART;TZID=America/Los_Angeles:20250218T120000
DTEND;TZID=America/Los_Angeles:20250218T140000
LOCATION:WGIS Space
END:VEVENT
BEGIN:VEVENT
UID:0664b63e612b34ff17701353e6053580
DTSTAMP:20260424T191846Z
SUMMARY:Noon Bitness - February 2025 (11/13)
DESCRIPTION:taught by Will Hines and Sarah Claspell\nat WGIS Space
DTSTART;TZID=America/Los_Angeles:20250220T120000
DTEND;TZID=America/Los_Angeles:20250220T140000
LOCATION:WGIS Space
END:VEVENT
BEGIN:VEVENT
UID:f2d6b9d451207e67888cd907c71b15e4
DTSTAMP:20260424T191846Z
SUMMARY:Noon Bitness - February 2025 (12/13)
DESCRIPTION:taught by Will Hines and Sarah Claspell\nat WGIS Space
DTSTART;TZID=America/Los_Angeles:20250221T120000
DTEND;TZID=America/Los_Angeles:20250221T140000
LOCATION:WGIS Space
END:VEVENT
BEGIN:VEVENT
UID:8be5292f092868ee0ef5c06cf8d77da3
DTSTAMP:20260424T191846Z
SUMMARY:Noon Bitness - February 2025 (13/13)
DESCRIPTION:taught by Will Hines and Sarah Claspell\nat WGIS Space
DTSTART;TZID=America/Los_Angeles:20250221T180000
DTEND;TZID=America/Los_Angeles:20250221T190000
LOCATION:WGIS Space
END:VEVENT
BEGIN:VTIMEZONE
TZID:America/Los_Angeles
BEGIN:DAYLIGHT
DTSTART:20260401T000000
TZNAME:PDT
TZOFFSETTO:-0700
TZOFFSETFROM:-0700
END:DAYLIGHT
END:VTIMEZONE
END:VCALENDAR
