BEGIN:VCALENDAR
PRODID:-//eluceo/ical//2.0/EN
VERSION:2.0
CALSCALE:GREGORIAN
BEGIN:VEVENT
UID:c67a286a56923562d62693afec14a61c
DTSTAMP:20260421T081050Z
SUMMARY:Game Action (1/4)
DESCRIPTION:taught by Todd Fasen\nat Online
DTSTART;TZID=America/Los_Angeles:20250409T110000
DTEND;TZID=America/Los_Angeles:20250409T130000
LOCATION:Online
END:VEVENT
BEGIN:VEVENT
UID:ba0629db007f5093f35b4f421db1f2eb
DTSTAMP:20260421T081050Z
SUMMARY:Game Action (2/4)
DESCRIPTION:taught by Todd Fasen\nat Online
DTSTART;TZID=America/Los_Angeles:20250416T110000
DTEND;TZID=America/Los_Angeles:20250416T130000
LOCATION:Online
END:VEVENT
BEGIN:VEVENT
UID:f56dd37755f25ba2c809f10d9cb09252
DTSTAMP:20260421T081050Z
SUMMARY:Game Action (3/4)
DESCRIPTION:taught by Todd Fasen\nat Online
DTSTART;TZID=America/Los_Angeles:20250423T110000
DTEND;TZID=America/Los_Angeles:20250423T130000
LOCATION:Online
END:VEVENT
BEGIN:VEVENT
UID:4d23340b99525cf81ac98625b01e6445
DTSTAMP:20260421T081050Z
SUMMARY:Game Action (4/4)
DESCRIPTION:taught by Todd Fasen\nat Online
DTSTART;TZID=America/Los_Angeles:20250430T110000
DTEND;TZID=America/Los_Angeles:20250430T130000
LOCATION:Online
END:VEVENT
BEGIN:VTIMEZONE
TZID:America/Los_Angeles
BEGIN:DAYLIGHT
DTSTART:20260401T000000
TZNAME:PDT
TZOFFSETTO:-0700
TZOFFSETFROM:-0700
END:DAYLIGHT
END:VTIMEZONE
END:VCALENDAR
