BEGIN:VCALENDAR
PRODID:-//eluceo/ical//2.0/EN
VERSION:2.0
CALSCALE:GREGORIAN
BEGIN:VEVENT
UID:8ef16ba520cd1d0ea03e71579f73f55a
DTSTAMP:20260423T082625Z
SUMMARY:Game Drill (1/4)
DESCRIPTION:taught by Sarah Claspell\nat Online
DTSTART;TZID=America/Los_Angeles:20250325T170000
DTEND;TZID=America/Los_Angeles:20250325T190000
LOCATION:Online
END:VEVENT
BEGIN:VEVENT
UID:83fd07c7b2447521e70bd2aacb43c723
DTSTAMP:20260423T082625Z
SUMMARY:Game Drill (2/4)
DESCRIPTION:taught by Sarah Claspell\nat Online
DTSTART;TZID=America/Los_Angeles:20250401T170000
DTEND;TZID=America/Los_Angeles:20250401T190000
LOCATION:Online
END:VEVENT
BEGIN:VEVENT
UID:f42f4eb22da28f4ea018ee3925cf1f08
DTSTAMP:20260423T082625Z
SUMMARY:Game Drill (3/4)
DESCRIPTION:taught by Sarah Claspell\nat Online
DTSTART;TZID=America/Los_Angeles:20250408T170000
DTEND;TZID=America/Los_Angeles:20250408T190000
LOCATION:Online
END:VEVENT
BEGIN:VEVENT
UID:93dbdc0cb7338b51b9e6660b21a2c881
DTSTAMP:20260423T082625Z
SUMMARY:Game Drill (4/4)
DESCRIPTION:taught by Sarah Claspell\nat Online
DTSTART;TZID=America/Los_Angeles:20250415T170000
DTEND;TZID=America/Los_Angeles:20250415T190000
LOCATION:Online
END:VEVENT
BEGIN:VTIMEZONE
TZID:America/Los_Angeles
BEGIN:DAYLIGHT
DTSTART:20260401T000000
TZNAME:PDT
TZOFFSETTO:-0700
TZOFFSETFROM:-0700
END:DAYLIGHT
END:VTIMEZONE
END:VCALENDAR
