BEGIN:VCALENDAR
PRODID:-//eluceo/ical//2.0/EN
VERSION:2.0
CALSCALE:GREGORIAN
BEGIN:VEVENT
UID:a6d8d330f3e2f0b7d5895efd6403a639
DTSTAMP:20260423T083727Z
SUMMARY:Pretty Flower (1/1)
DESCRIPTION:taught by Billy Merritt\nat Online
DTSTART;TZID=America/Los_Angeles:20250411T090000
DTEND;TZID=America/Los_Angeles:20250411T110000
LOCATION:Online
END:VEVENT
BEGIN:VTIMEZONE
TZID:America/Los_Angeles
BEGIN:DAYLIGHT
DTSTART:20260401T000000
TZNAME:PDT
TZOFFSETTO:-0700
TZOFFSETFROM:-0700
END:DAYLIGHT
END:VTIMEZONE
END:VCALENDAR
