BEGIN:VCALENDAR
PRODID:-//eluceo/ical//2.0/EN
VERSION:2.0
CALSCALE:GREGORIAN
BEGIN:VEVENT
UID:c930196553d3aece83e66c7cd3aa195f
DTSTAMP:20260423T083845Z
SUMMARY:More Fun Second and Third Beats (1/4)
DESCRIPTION:taught by Rachel Van Nes\nat Anthony Meindl Studios
DTSTART;TZID=America/Los_Angeles:20250820T190000
DTEND;TZID=America/Los_Angeles:20250820T213000
LOCATION:Anthony Meindl Studios
END:VEVENT
BEGIN:VEVENT
UID:d9132fadb9213e214edf8781e1fa32b5
DTSTAMP:20260423T083845Z
SUMMARY:More Fun Second and Third Beats (2/4)
DESCRIPTION:taught by Rachel Van Nes\nat Anthony Meindl Studios
DTSTART;TZID=America/Los_Angeles:20250827T190000
DTEND;TZID=America/Los_Angeles:20250827T213000
LOCATION:Anthony Meindl Studios
END:VEVENT
BEGIN:VEVENT
UID:aa7437828e673fc30a7e9228b744fc0c
DTSTAMP:20260423T083845Z
SUMMARY:More Fun Second and Third Beats (3/4)
DESCRIPTION:taught by Rachel Van Nes\nat Thymele Arts
DTSTART;TZID=America/Los_Angeles:20250903T190000
DTEND;TZID=America/Los_Angeles:20250903T213000
LOCATION:Thymele Arts
END:VEVENT
BEGIN:VEVENT
UID:1f28bfae81bf8a174c535d164241b0a8
DTSTAMP:20260423T083845Z
SUMMARY:More Fun Second and Third Beats (4/4)
DESCRIPTION:taught by Rachel Van Nes\nat Thymele Arts
DTSTART;TZID=America/Los_Angeles:20250910T190000
DTEND;TZID=America/Los_Angeles:20250910T213000
LOCATION:Thymele Arts
END:VEVENT
BEGIN:VTIMEZONE
TZID:America/Los_Angeles
BEGIN:DAYLIGHT
DTSTART:20260401T000000
TZNAME:PDT
TZOFFSETTO:-0700
TZOFFSETFROM:-0700
END:DAYLIGHT
END:VTIMEZONE
END:VCALENDAR
