BEGIN:VCALENDAR
PRODID:-//eluceo/ical//2.0/EN
VERSION:2.0
CALSCALE:GREGORIAN
BEGIN:VEVENT
UID:1f76a543b563acac055af436ce52febb
DTSTAMP:20260426T002901Z
SUMMARY:Level 5: What's Your Deal (1/6)
DESCRIPTION:taught by Julie Brister\nat Online
DTSTART;TZID=America/Los_Angeles:20230227T100000
DTEND;TZID=America/Los_Angeles:20230227T120000
LOCATION:Online
END:VEVENT
BEGIN:VEVENT
UID:236da31c6e985dd993cd280973f2db2c
DTSTAMP:20260426T002901Z
SUMMARY:Level 5: What's Your Deal (2/6)
DESCRIPTION:taught by Julie Brister\nat Online
DTSTART;TZID=America/Los_Angeles:20230306T100000
DTEND;TZID=America/Los_Angeles:20230306T120000
LOCATION:Online
END:VEVENT
BEGIN:VEVENT
UID:887515a075c3503a3956a7efb5863570
DTSTAMP:20260426T002901Z
SUMMARY:Level 5: What's Your Deal (3/6)
DESCRIPTION:taught by Julie Brister\nat Online
DTSTART;TZID=America/Los_Angeles:20230313T100000
DTEND;TZID=America/Los_Angeles:20230313T120000
LOCATION:Online
END:VEVENT
BEGIN:VEVENT
UID:0eff7027f5dbb8a2f2095579a5646bfc
DTSTAMP:20260426T002901Z
SUMMARY:Level 5: What's Your Deal (4/6)
DESCRIPTION:taught by Julie Brister\nat Online
DTSTART;TZID=America/Los_Angeles:20230320T100000
DTEND;TZID=America/Los_Angeles:20230320T120000
LOCATION:Online
END:VEVENT
BEGIN:VEVENT
UID:bc608d06f719a644aafa29bad69185f5
DTSTAMP:20260426T002901Z
SUMMARY:Level 5: What's Your Deal (5/6)
DESCRIPTION:taught by Julie Brister\nat Online
DTSTART;TZID=America/Los_Angeles:20230327T100000
DTEND;TZID=America/Los_Angeles:20230327T120000
LOCATION:Online
END:VEVENT
BEGIN:VEVENT
UID:1b1cebffd5d5f6da8f7554bbdf6faddf
DTSTAMP:20260426T002901Z
SUMMARY:Level 5: What's Your Deal (6/6)
DESCRIPTION:taught by Julie Brister\nat Online
DTSTART;TZID=America/Los_Angeles:20230403T100000
DTEND;TZID=America/Los_Angeles:20230403T120000
LOCATION:Online
END:VEVENT
BEGIN:VTIMEZONE
TZID:America/Los_Angeles
BEGIN:DAYLIGHT
DTSTART:20260401T000000
TZNAME:PDT
TZOFFSETTO:-0700
TZOFFSETFROM:-0700
END:DAYLIGHT
END:VTIMEZONE
END:VCALENDAR
